BEGIN:VCALENDAR
VERSION:2.0
PRODID:-//eventon.com NONSGML v1.0//EN
CALSCALE:GREGORIAN
METHOD:PUBLISH
BEGIN:VEVENT
UID:69eb6e8c39e8c
DTSTAMP:20260424T132220Z
DTSTART:20260612
DTEND:20260613
LOCATION:
SUMMARY:Falmouth International Sea Shanty Festival
DESCRIPTION:The Falmouth International Sea Shanty Festival takes place at v
 arious locations throughout the town\,  from pubs and bars to historic cour
 tyards and quays. Falmouth’s International Sea Shanty Festival usually at
 tracts in excess of 65\, 000 visitors to see over 80 shanty groups and&nbsp
 ;will go ahead on 12th – 14th June 2026.[..]\nhttps://severnwhalers.co.uk
 /all-events/falmouth-international-sea-shanty-festival/
URL:https://severnwhalers.co.uk/all-events/falmouth-international-sea-shanty-festival/
END:VEVENT
END:VCALENDAR